BEGIN:VCALENDAR
VERSION:2.0
PRODID:-//Tukios.com/
BEGIN:VEVENT
UID:4226aa21-c727-4da0-b148-49b845e8527b@www.williamsfuneralhomeva.com
DTSTAMP:20260422T041619Z
DTSTART:20260423T180000Z
DTEND:20260423T190000Z
SUMMARY:Funeral Service
DESCRIPTION:
URL:https://www.williamsfuneralhomeva.com/obituaries/sharon-tereschenko
LOCATION:Corinth United Methodist Church 8721 Cox Road  Ford VA 23850
GEO:37.1414848;-77.7529227
END:VEVENT
END:VCALENDAR